BEGIN:VCALENDAR
VERSION:2.0
PRODID:-//WTZQ FM 95.3 - ECPv5.6.0//NONSGML v1.0//EN
CALSCALE:GREGORIAN
METHOD:PUBLISH
X-WR-CALNAME:WTZQ FM 95.3
X-ORIGINAL-URL:https://www.wtzq.com
X-WR-CALDESC:Events for WTZQ FM 95.3
BEGIN:VTIMEZONE
TZID:America/New_York
BEGIN:DAYLIGHT
TZOFFSETFROM:-0500
TZOFFSETTO:-0400
TZNAME:EDT
DTSTART:20260308T070000
END:DAYLIGHT
BEGIN:STANDARD
TZOFFSETFROM:-0400
TZOFFSETTO:-0500
TZNAME:EST
DTSTART:20261101T060000
END:STANDARD
END:VTIMEZONE
BEGIN:VEVENT
DTSTART;TZID=America/New_York:20261007T150000
DTEND;TZID=America/New_York:20261007T173000
DTSTAMP:20260423T005000
CREATED:20260415T153416Z
LAST-MODIFIED:20260415T153416Z
UID:94103-1791385200-1791394200@www.wtzq.com
SUMMARY:Etowah Lions Farmers Market
DESCRIPTION:Now in its fifth year. the Etowah Lions Farmers Market is back starting in May and continuing on Wednesdays through October from 3-5:30pm. There will be locally-grown produce\, fresh baked goods\, seafood\, fresh flowers\, high-quality crafts by local artisans\, and live music. Proceeds from the six-month market season are donated by the Lions to local non-profits helping farmers still recovering from Hurricane Helene.  The market is located at Etowah Park. For more information\, call 252-495-2808 or visit the Etowah Lions Farmers Market on Facebook.
URL:https://www.wtzq.com/event/etowah-lions-farmers-market/2026-10-07/
CATEGORIES:Community Events,Event
ATTACH;FMTTYPE=image/jpeg:https://dehayf5mhw1h7.cloudfront.net/wp-content/uploads/sites/2349/grav/ty/14165347/IMG_4707.jpeg
END:VEVENT
BEGIN:VEVENT
DTSTART;TZID=America/New_York:20261014T150000
DTEND;TZID=America/New_York:20261014T173000
DTSTAMP:20260423T005000
CREATED:20260415T153416Z
LAST-MODIFIED:20260415T153416Z
UID:94104-1791990000-1791999000@www.wtzq.com
SUMMARY:Etowah Lions Farmers Market
DESCRIPTION:Now in its fifth year. the Etowah Lions Farmers Market is back starting in May and continuing on Wednesdays through October from 3-5:30pm. There will be locally-grown produce\, fresh baked goods\, seafood\, fresh flowers\, high-quality crafts by local artisans\, and live music. Proceeds from the six-month market season are donated by the Lions to local non-profits helping farmers still recovering from Hurricane Helene.  The market is located at Etowah Park. For more information\, call 252-495-2808 or visit the Etowah Lions Farmers Market on Facebook.
URL:https://www.wtzq.com/event/etowah-lions-farmers-market/2026-10-14/
CATEGORIES:Community Events,Event
ATTACH;FMTTYPE=image/jpeg:https://dehayf5mhw1h7.cloudfront.net/wp-content/uploads/sites/2349/grav/ty/14165347/IMG_4707.jpeg
END:VEVENT
BEGIN:VEVENT
DTSTART;TZID=America/New_York:20261015T170000
DTEND;TZID=America/New_York:20261015T210000
DTSTAMP:20260423T005000
CREATED:20260318T180910Z
LAST-MODIFIED:20260318T180910Z
UID:93837-1792083600-1792098000@www.wtzq.com
SUMMARY:Rhythm & Brews Announces Its 2026 Concert Series Lineup
DESCRIPTION:Summer is right around the corner\, and with it comes the return of the Rhythm & Brews Concert Series\, presented by Horizon Heating & Air. Beginning in June and running through October\, these free outdoor concerts will fill downtown with energy on the third Thursday of each month. Enjoy live music\, craft beverages\, food trucks\, and a fun-filled Kids Zone at the south end of Main Street between Allen and Caswell streets. \n\nThe Rhythm & Brews Concert Series is also made possible through the support of Spinx\, We Sell WNC Realty\, Parks Ford\, Van Winkle Law Firm\, Yoga and Massage\, Joyce Windows\, Sunrooms & Baths\, Mast General Store\, Mini Batch Bakery\, The Salty Landing\, BGW Advisors\, Rock Creek Containers\, Discover Hometown Magazine and Four Seasons Plumbing. \n\nAs Hendersonville’s signature live music series\, Rhythm & Brews brings together well-known performers and up-and-coming artists from across the region. With a lineup spanning blues\, rock\, bluegrass\, country\, and funk\, each concert offers something new to discover and enjoy. \n\n2026 Rhythm & Brews Concert Series Lineup: \n  \nJune 18: Firecracker Jazz Band [[Jazz]] with The Mojo Brothers Blues Band [[Blues]] \n  \nJuly 16:  Canaan Cox [[Country]] with Highway 52 [[Blues/Americana]] \n\nAugust 20: Andrew Scotchie [[Southern Rock]] with Random Animals [[Indie/Soul]] \n\nSeptember 17: Brennen Leigh [[Country]] with The Dudes [[String band]] \n\nOctober 15: Unspoken Tradition [[Bluegrassl] with Finkelstein Three [[Bluegrass/Jazzgrass]] \n\nOpening acts will kick off each evening at 5 p.m. followed by the headliner performance from 7-9 p.m. \nFamilies can take advantage of the Mike’s on Main & Hendersonville Toy Company Kid Zone\, where kids can enjoy hula-hooping\, games\, and hands-on activities. At the same time\, adults can relax in downtown Hendersonville’s fully integrated beer and wine garden\, featuring a selection of locally crafted beverages from Sierra Nevada Brewing Co.\, Bold Rock Hard Cider\, Guidon Brewing Co.\, Oklawaha Brewing Co.\, Dry Falls Brewery\, Saint Paul Mountain Vineyards\, and Flat Rock Cider Company. \n\nThe Rhythm & Brews Super Fan Tent\, sponsored by We Sell WNC Realty\, provides an enhanced experience with a shaded viewing area including beer\, wine and catering by The Salty Landing. You can become an R&B Super Fan by purchasing a season package sponsorship for $350 for two people; LIMITED quantities remain! The package includes two tent tickets to each show\, four beverage tickets for each show\, and two R&B season t-shirts. Becoming a R&B Super Fan sponsor will not only help sustain R&B\, but other Downtown Program events including Garden Jubilee\, Hendersonville Farmers Market\, the Bearfootin’ Art Walk\, and more. Visit the event website for more information on how to become a Super Fan. \n\nLooking to get involved? Volunteer opportunities abound at Rhythm & Brews\, offering a fantastic way to connect with others and contribute to a vibrant community event. Complete the Volunteer Interest Form to join the team. \nAll net proceeds from adult beverage sales will benefit the Friends of Downtown Hendersonville\, a 501c3 nonprofit whose mission is to preserve and enhance the vitality of Downtown Hendersonville’s districts by initiating policies\, investing in capital improvements\, and placemaking to curate a quality experience. For further information\, please visit downtownhendersonville.org.
URL:https://www.wtzq.com/event/rhythm-brews-announces-its-2026-concert-series-lineup/2026-10-15/
CATEGORIES:Community Events,Event
ATTACH;FMTTYPE=image/jpeg:https://dehayf5mhw1h7.cloudfront.net/wp-content/uploads/sites/2349/2026/03/18140838/rb-4.jpg
END:VEVENT
BEGIN:VEVENT
DTSTART;TZID=America/New_York:20261021T150000
DTEND;TZID=America/New_York:20261021T173000
DTSTAMP:20260423T005000
CREATED:20260415T153416Z
LAST-MODIFIED:20260415T153416Z
UID:94105-1792594800-1792603800@www.wtzq.com
SUMMARY:Etowah Lions Farmers Market
DESCRIPTION:Now in its fifth year. the Etowah Lions Farmers Market is back starting in May and continuing on Wednesdays through October from 3-5:30pm. There will be locally-grown produce\, fresh baked goods\, seafood\, fresh flowers\, high-quality crafts by local artisans\, and live music. Proceeds from the six-month market season are donated by the Lions to local non-profits helping farmers still recovering from Hurricane Helene.  The market is located at Etowah Park. For more information\, call 252-495-2808 or visit the Etowah Lions Farmers Market on Facebook.
URL:https://www.wtzq.com/event/etowah-lions-farmers-market/2026-10-21/
CATEGORIES:Community Events,Event
ATTACH;FMTTYPE=image/jpeg:https://dehayf5mhw1h7.cloudfront.net/wp-content/uploads/sites/2349/grav/ty/14165347/IMG_4707.jpeg
END:VEVENT
BEGIN:VEVENT
DTSTART;TZID=America/New_York:20261028T150000
DTEND;TZID=America/New_York:20261028T173000
DTSTAMP:20260423T005000
CREATED:20260415T153416Z
LAST-MODIFIED:20260415T153416Z
UID:94106-1793199600-1793208600@www.wtzq.com
SUMMARY:Etowah Lions Farmers Market
DESCRIPTION:Now in its fifth year. the Etowah Lions Farmers Market is back starting in May and continuing on Wednesdays through October from 3-5:30pm. There will be locally-grown produce\, fresh baked goods\, seafood\, fresh flowers\, high-quality crafts by local artisans\, and live music. Proceeds from the six-month market season are donated by the Lions to local non-profits helping farmers still recovering from Hurricane Helene.  The market is located at Etowah Park. For more information\, call 252-495-2808 or visit the Etowah Lions Farmers Market on Facebook.
URL:https://www.wtzq.com/event/etowah-lions-farmers-market/2026-10-28/
CATEGORIES:Community Events,Event
ATTACH;FMTTYPE=image/jpeg:https://dehayf5mhw1h7.cloudfront.net/wp-content/uploads/sites/2349/grav/ty/14165347/IMG_4707.jpeg
END:VEVENT
END:VCALENDAR