BEGIN:VCALENDAR
VERSION:2.0
PRODID:-//WTZQ FM 95.3 - ECPv5.6.0//NONSGML v1.0//EN
CALSCALE:GREGORIAN
METHOD:PUBLISH
X-WR-CALNAME:WTZQ FM 95.3
X-ORIGINAL-URL:https://www.wtzq.com
X-WR-CALDESC:Events for WTZQ FM 95.3
BEGIN:VTIMEZONE
TZID:America/New_York
BEGIN:DAYLIGHT
TZOFFSETFROM:-0500
TZOFFSETTO:-0400
TZNAME:EDT
DTSTART:20260308T070000
END:DAYLIGHT
BEGIN:STANDARD
TZOFFSETFROM:-0400
TZOFFSETTO:-0500
TZNAME:EST
DTSTART:20261101T060000
END:STANDARD
END:VTIMEZONE
BEGIN:VEVENT
DTSTART;TZID=America/New_York:20260715T150000
DTEND;TZID=America/New_York:20260715T173000
DTSTAMP:20260422T203702
CREATED:20260415T153416Z
LAST-MODIFIED:20260415T153416Z
UID:94091-1784127600-1784136600@www.wtzq.com
SUMMARY:Etowah Lions Farmers Market
DESCRIPTION:Now in its fifth year. the Etowah Lions Farmers Market is back starting in May and continuing on Wednesdays through October from 3-5:30pm. There will be locally-grown produce\, fresh baked goods\, seafood\, fresh flowers\, high-quality crafts by local artisans\, and live music. Proceeds from the six-month market season are donated by the Lions to local non-profits helping farmers still recovering from Hurricane Helene.  The market is located at Etowah Park. For more information\, call 252-495-2808 or visit the Etowah Lions Farmers Market on Facebook.
URL:https://www.wtzq.com/event/etowah-lions-farmers-market/2026-07-15/
CATEGORIES:Community Events,Event
ATTACH;FMTTYPE=image/jpeg:https://dehayf5mhw1h7.cloudfront.net/wp-content/uploads/sites/2349/grav/ty/14165347/IMG_4707.jpeg
END:VEVENT
BEGIN:VEVENT
DTSTART;TZID=America/New_York:20260722T150000
DTEND;TZID=America/New_York:20260722T173000
DTSTAMP:20260422T203702
CREATED:20260415T153416Z
LAST-MODIFIED:20260415T153416Z
UID:94092-1784732400-1784741400@www.wtzq.com
SUMMARY:Etowah Lions Farmers Market
DESCRIPTION:Now in its fifth year. the Etowah Lions Farmers Market is back starting in May and continuing on Wednesdays through October from 3-5:30pm. There will be locally-grown produce\, fresh baked goods\, seafood\, fresh flowers\, high-quality crafts by local artisans\, and live music. Proceeds from the six-month market season are donated by the Lions to local non-profits helping farmers still recovering from Hurricane Helene.  The market is located at Etowah Park. For more information\, call 252-495-2808 or visit the Etowah Lions Farmers Market on Facebook.
URL:https://www.wtzq.com/event/etowah-lions-farmers-market/2026-07-22/
CATEGORIES:Community Events,Event
ATTACH;FMTTYPE=image/jpeg:https://dehayf5mhw1h7.cloudfront.net/wp-content/uploads/sites/2349/grav/ty/14165347/IMG_4707.jpeg
END:VEVENT
BEGIN:VEVENT
DTSTART;TZID=America/New_York:20260729T150000
DTEND;TZID=America/New_York:20260729T173000
DTSTAMP:20260422T203702
CREATED:20260415T153416Z
LAST-MODIFIED:20260415T153416Z
UID:94093-1785337200-1785346200@www.wtzq.com
SUMMARY:Etowah Lions Farmers Market
DESCRIPTION:Now in its fifth year. the Etowah Lions Farmers Market is back starting in May and continuing on Wednesdays through October from 3-5:30pm. There will be locally-grown produce\, fresh baked goods\, seafood\, fresh flowers\, high-quality crafts by local artisans\, and live music. Proceeds from the six-month market season are donated by the Lions to local non-profits helping farmers still recovering from Hurricane Helene.  The market is located at Etowah Park. For more information\, call 252-495-2808 or visit the Etowah Lions Farmers Market on Facebook.
URL:https://www.wtzq.com/event/etowah-lions-farmers-market/2026-07-29/
CATEGORIES:Community Events,Event
ATTACH;FMTTYPE=image/jpeg:https://dehayf5mhw1h7.cloudfront.net/wp-content/uploads/sites/2349/grav/ty/14165347/IMG_4707.jpeg
END:VEVENT
BEGIN:VEVENT
DTSTART;TZID=America/New_York:20260805T150000
DTEND;TZID=America/New_York:20260805T173000
DTSTAMP:20260422T203702
CREATED:20260415T153416Z
LAST-MODIFIED:20260415T153416Z
UID:94094-1785942000-1785951000@www.wtzq.com
SUMMARY:Etowah Lions Farmers Market
DESCRIPTION:Now in its fifth year. the Etowah Lions Farmers Market is back starting in May and continuing on Wednesdays through October from 3-5:30pm. There will be locally-grown produce\, fresh baked goods\, seafood\, fresh flowers\, high-quality crafts by local artisans\, and live music. Proceeds from the six-month market season are donated by the Lions to local non-profits helping farmers still recovering from Hurricane Helene.  The market is located at Etowah Park. For more information\, call 252-495-2808 or visit the Etowah Lions Farmers Market on Facebook.
URL:https://www.wtzq.com/event/etowah-lions-farmers-market/2026-08-05/
CATEGORIES:Community Events,Event
ATTACH;FMTTYPE=image/jpeg:https://dehayf5mhw1h7.cloudfront.net/wp-content/uploads/sites/2349/grav/ty/14165347/IMG_4707.jpeg
END:VEVENT
BEGIN:VEVENT
DTSTART;TZID=America/New_York:20260812T150000
DTEND;TZID=America/New_York:20260812T173000
DTSTAMP:20260422T203702
CREATED:20260415T153416Z
LAST-MODIFIED:20260415T153416Z
UID:94095-1786546800-1786555800@www.wtzq.com
SUMMARY:Etowah Lions Farmers Market
DESCRIPTION:Now in its fifth year. the Etowah Lions Farmers Market is back starting in May and continuing on Wednesdays through October from 3-5:30pm. There will be locally-grown produce\, fresh baked goods\, seafood\, fresh flowers\, high-quality crafts by local artisans\, and live music. Proceeds from the six-month market season are donated by the Lions to local non-profits helping farmers still recovering from Hurricane Helene.  The market is located at Etowah Park. For more information\, call 252-495-2808 or visit the Etowah Lions Farmers Market on Facebook.
URL:https://www.wtzq.com/event/etowah-lions-farmers-market/2026-08-12/
CATEGORIES:Community Events,Event
ATTACH;FMTTYPE=image/jpeg:https://dehayf5mhw1h7.cloudfront.net/wp-content/uploads/sites/2349/grav/ty/14165347/IMG_4707.jpeg
END:VEVENT
BEGIN:VEVENT
DTSTART;TZID=America/New_York:20260819T150000
DTEND;TZID=America/New_York:20260819T173000
DTSTAMP:20260422T203702
CREATED:20260415T153416Z
LAST-MODIFIED:20260415T153416Z
UID:94096-1787151600-1787160600@www.wtzq.com
SUMMARY:Etowah Lions Farmers Market
DESCRIPTION:Now in its fifth year. the Etowah Lions Farmers Market is back starting in May and continuing on Wednesdays through October from 3-5:30pm. There will be locally-grown produce\, fresh baked goods\, seafood\, fresh flowers\, high-quality crafts by local artisans\, and live music. Proceeds from the six-month market season are donated by the Lions to local non-profits helping farmers still recovering from Hurricane Helene.  The market is located at Etowah Park. For more information\, call 252-495-2808 or visit the Etowah Lions Farmers Market on Facebook.
URL:https://www.wtzq.com/event/etowah-lions-farmers-market/2026-08-19/
CATEGORIES:Community Events,Event
ATTACH;FMTTYPE=image/jpeg:https://dehayf5mhw1h7.cloudfront.net/wp-content/uploads/sites/2349/grav/ty/14165347/IMG_4707.jpeg
END:VEVENT
BEGIN:VEVENT
DTSTART;TZID=America/New_York:20260826T150000
DTEND;TZID=America/New_York:20260826T173000
DTSTAMP:20260422T203702
CREATED:20260415T153416Z
LAST-MODIFIED:20260415T153416Z
UID:94097-1787756400-1787765400@www.wtzq.com
SUMMARY:Etowah Lions Farmers Market
DESCRIPTION:Now in its fifth year. the Etowah Lions Farmers Market is back starting in May and continuing on Wednesdays through October from 3-5:30pm. There will be locally-grown produce\, fresh baked goods\, seafood\, fresh flowers\, high-quality crafts by local artisans\, and live music. Proceeds from the six-month market season are donated by the Lions to local non-profits helping farmers still recovering from Hurricane Helene.  The market is located at Etowah Park. For more information\, call 252-495-2808 or visit the Etowah Lions Farmers Market on Facebook.
URL:https://www.wtzq.com/event/etowah-lions-farmers-market/2026-08-26/
CATEGORIES:Community Events,Event
ATTACH;FMTTYPE=image/jpeg:https://dehayf5mhw1h7.cloudfront.net/wp-content/uploads/sites/2349/grav/ty/14165347/IMG_4707.jpeg
END:VEVENT
BEGIN:VEVENT
DTSTART;TZID=America/New_York:20260902T150000
DTEND;TZID=America/New_York:20260902T173000
DTSTAMP:20260422T203702
CREATED:20260415T153416Z
LAST-MODIFIED:20260415T153416Z
UID:94098-1788361200-1788370200@www.wtzq.com
SUMMARY:Etowah Lions Farmers Market
DESCRIPTION:Now in its fifth year. the Etowah Lions Farmers Market is back starting in May and continuing on Wednesdays through October from 3-5:30pm. There will be locally-grown produce\, fresh baked goods\, seafood\, fresh flowers\, high-quality crafts by local artisans\, and live music. Proceeds from the six-month market season are donated by the Lions to local non-profits helping farmers still recovering from Hurricane Helene.  The market is located at Etowah Park. For more information\, call 252-495-2808 or visit the Etowah Lions Farmers Market on Facebook.
URL:https://www.wtzq.com/event/etowah-lions-farmers-market/2026-09-02/
CATEGORIES:Community Events,Event
ATTACH;FMTTYPE=image/jpeg:https://dehayf5mhw1h7.cloudfront.net/wp-content/uploads/sites/2349/grav/ty/14165347/IMG_4707.jpeg
END:VEVENT
BEGIN:VEVENT
DTSTART;TZID=America/New_York:20260909T150000
DTEND;TZID=America/New_York:20260909T173000
DTSTAMP:20260422T203702
CREATED:20260415T153416Z
LAST-MODIFIED:20260415T153416Z
UID:94099-1788966000-1788975000@www.wtzq.com
SUMMARY:Etowah Lions Farmers Market
DESCRIPTION:Now in its fifth year. the Etowah Lions Farmers Market is back starting in May and continuing on Wednesdays through October from 3-5:30pm. There will be locally-grown produce\, fresh baked goods\, seafood\, fresh flowers\, high-quality crafts by local artisans\, and live music. Proceeds from the six-month market season are donated by the Lions to local non-profits helping farmers still recovering from Hurricane Helene.  The market is located at Etowah Park. For more information\, call 252-495-2808 or visit the Etowah Lions Farmers Market on Facebook.
URL:https://www.wtzq.com/event/etowah-lions-farmers-market/2026-09-09/
CATEGORIES:Community Events,Event
ATTACH;FMTTYPE=image/jpeg:https://dehayf5mhw1h7.cloudfront.net/wp-content/uploads/sites/2349/grav/ty/14165347/IMG_4707.jpeg
END:VEVENT
BEGIN:VEVENT
DTSTART;TZID=America/New_York:20260916T150000
DTEND;TZID=America/New_York:20260916T173000
DTSTAMP:20260422T203702
CREATED:20260415T153416Z
LAST-MODIFIED:20260415T153416Z
UID:94100-1789570800-1789579800@www.wtzq.com
SUMMARY:Etowah Lions Farmers Market
DESCRIPTION:Now in its fifth year. the Etowah Lions Farmers Market is back starting in May and continuing on Wednesdays through October from 3-5:30pm. There will be locally-grown produce\, fresh baked goods\, seafood\, fresh flowers\, high-quality crafts by local artisans\, and live music. Proceeds from the six-month market season are donated by the Lions to local non-profits helping farmers still recovering from Hurricane Helene.  The market is located at Etowah Park. For more information\, call 252-495-2808 or visit the Etowah Lions Farmers Market on Facebook.
URL:https://www.wtzq.com/event/etowah-lions-farmers-market/2026-09-16/
CATEGORIES:Community Events,Event
ATTACH;FMTTYPE=image/jpeg:https://dehayf5mhw1h7.cloudfront.net/wp-content/uploads/sites/2349/grav/ty/14165347/IMG_4707.jpeg
END:VEVENT
BEGIN:VEVENT
DTSTART;TZID=America/New_York:20260923T150000
DTEND;TZID=America/New_York:20260923T173000
DTSTAMP:20260422T203702
CREATED:20260415T153416Z
LAST-MODIFIED:20260415T153416Z
UID:94101-1790175600-1790184600@www.wtzq.com
SUMMARY:Etowah Lions Farmers Market
DESCRIPTION:Now in its fifth year. the Etowah Lions Farmers Market is back starting in May and continuing on Wednesdays through October from 3-5:30pm. There will be locally-grown produce\, fresh baked goods\, seafood\, fresh flowers\, high-quality crafts by local artisans\, and live music. Proceeds from the six-month market season are donated by the Lions to local non-profits helping farmers still recovering from Hurricane Helene.  The market is located at Etowah Park. For more information\, call 252-495-2808 or visit the Etowah Lions Farmers Market on Facebook.
URL:https://www.wtzq.com/event/etowah-lions-farmers-market/2026-09-23/
CATEGORIES:Community Events,Event
ATTACH;FMTTYPE=image/jpeg:https://dehayf5mhw1h7.cloudfront.net/wp-content/uploads/sites/2349/grav/ty/14165347/IMG_4707.jpeg
END:VEVENT
BEGIN:VEVENT
DTSTART;TZID=America/New_York:20260930T150000
DTEND;TZID=America/New_York:20260930T173000
DTSTAMP:20260422T203702
CREATED:20260415T153416Z
LAST-MODIFIED:20260415T153416Z
UID:94102-1790780400-1790789400@www.wtzq.com
SUMMARY:Etowah Lions Farmers Market
DESCRIPTION:Now in its fifth year. the Etowah Lions Farmers Market is back starting in May and continuing on Wednesdays through October from 3-5:30pm. There will be locally-grown produce\, fresh baked goods\, seafood\, fresh flowers\, high-quality crafts by local artisans\, and live music. Proceeds from the six-month market season are donated by the Lions to local non-profits helping farmers still recovering from Hurricane Helene.  The market is located at Etowah Park. For more information\, call 252-495-2808 or visit the Etowah Lions Farmers Market on Facebook.
URL:https://www.wtzq.com/event/etowah-lions-farmers-market/2026-09-30/
CATEGORIES:Community Events,Event
ATTACH;FMTTYPE=image/jpeg:https://dehayf5mhw1h7.cloudfront.net/wp-content/uploads/sites/2349/grav/ty/14165347/IMG_4707.jpeg
END:VEVENT
BEGIN:VEVENT
DTSTART;TZID=America/New_York:20261007T150000
DTEND;TZID=America/New_York:20261007T173000
DTSTAMP:20260422T203702
CREATED:20260415T153416Z
LAST-MODIFIED:20260415T153416Z
UID:94103-1791385200-1791394200@www.wtzq.com
SUMMARY:Etowah Lions Farmers Market
DESCRIPTION:Now in its fifth year. the Etowah Lions Farmers Market is back starting in May and continuing on Wednesdays through October from 3-5:30pm. There will be locally-grown produce\, fresh baked goods\, seafood\, fresh flowers\, high-quality crafts by local artisans\, and live music. Proceeds from the six-month market season are donated by the Lions to local non-profits helping farmers still recovering from Hurricane Helene.  The market is located at Etowah Park. For more information\, call 252-495-2808 or visit the Etowah Lions Farmers Market on Facebook.
URL:https://www.wtzq.com/event/etowah-lions-farmers-market/2026-10-07/
CATEGORIES:Community Events,Event
ATTACH;FMTTYPE=image/jpeg:https://dehayf5mhw1h7.cloudfront.net/wp-content/uploads/sites/2349/grav/ty/14165347/IMG_4707.jpeg
END:VEVENT
BEGIN:VEVENT
DTSTART;TZID=America/New_York:20261014T150000
DTEND;TZID=America/New_York:20261014T173000
DTSTAMP:20260422T203702
CREATED:20260415T153416Z
LAST-MODIFIED:20260415T153416Z
UID:94104-1791990000-1791999000@www.wtzq.com
SUMMARY:Etowah Lions Farmers Market
DESCRIPTION:Now in its fifth year. the Etowah Lions Farmers Market is back starting in May and continuing on Wednesdays through October from 3-5:30pm. There will be locally-grown produce\, fresh baked goods\, seafood\, fresh flowers\, high-quality crafts by local artisans\, and live music. Proceeds from the six-month market season are donated by the Lions to local non-profits helping farmers still recovering from Hurricane Helene.  The market is located at Etowah Park. For more information\, call 252-495-2808 or visit the Etowah Lions Farmers Market on Facebook.
URL:https://www.wtzq.com/event/etowah-lions-farmers-market/2026-10-14/
CATEGORIES:Community Events,Event
ATTACH;FMTTYPE=image/jpeg:https://dehayf5mhw1h7.cloudfront.net/wp-content/uploads/sites/2349/grav/ty/14165347/IMG_4707.jpeg
END:VEVENT
BEGIN:VEVENT
DTSTART;TZID=America/New_York:20261021T150000
DTEND;TZID=America/New_York:20261021T173000
DTSTAMP:20260422T203702
CREATED:20260415T153416Z
LAST-MODIFIED:20260415T153416Z
UID:94105-1792594800-1792603800@www.wtzq.com
SUMMARY:Etowah Lions Farmers Market
DESCRIPTION:Now in its fifth year. the Etowah Lions Farmers Market is back starting in May and continuing on Wednesdays through October from 3-5:30pm. There will be locally-grown produce\, fresh baked goods\, seafood\, fresh flowers\, high-quality crafts by local artisans\, and live music. Proceeds from the six-month market season are donated by the Lions to local non-profits helping farmers still recovering from Hurricane Helene.  The market is located at Etowah Park. For more information\, call 252-495-2808 or visit the Etowah Lions Farmers Market on Facebook.
URL:https://www.wtzq.com/event/etowah-lions-farmers-market/2026-10-21/
CATEGORIES:Community Events,Event
ATTACH;FMTTYPE=image/jpeg:https://dehayf5mhw1h7.cloudfront.net/wp-content/uploads/sites/2349/grav/ty/14165347/IMG_4707.jpeg
END:VEVENT
BEGIN:VEVENT
DTSTART;TZID=America/New_York:20261028T150000
DTEND;TZID=America/New_York:20261028T173000
DTSTAMP:20260422T203702
CREATED:20260415T153416Z
LAST-MODIFIED:20260415T153416Z
UID:94106-1793199600-1793208600@www.wtzq.com
SUMMARY:Etowah Lions Farmers Market
DESCRIPTION:Now in its fifth year. the Etowah Lions Farmers Market is back starting in May and continuing on Wednesdays through October from 3-5:30pm. There will be locally-grown produce\, fresh baked goods\, seafood\, fresh flowers\, high-quality crafts by local artisans\, and live music. Proceeds from the six-month market season are donated by the Lions to local non-profits helping farmers still recovering from Hurricane Helene.  The market is located at Etowah Park. For more information\, call 252-495-2808 or visit the Etowah Lions Farmers Market on Facebook.
URL:https://www.wtzq.com/event/etowah-lions-farmers-market/2026-10-28/
CATEGORIES:Community Events,Event
ATTACH;FMTTYPE=image/jpeg:https://dehayf5mhw1h7.cloudfront.net/wp-content/uploads/sites/2349/grav/ty/14165347/IMG_4707.jpeg
END:VEVENT
END:VCALENDAR